BEGIN:VCALENDAR
VERSION:2.0
PRODID:-//Lake Conroe Amateur Radio Club - ECPv6.15.20//NONSGML v1.0//EN
CALSCALE:GREGORIAN
METHOD:PUBLISH
X-WR-CALNAME:Lake Conroe Amateur Radio Club
X-ORIGINAL-URL:https://ac5lc.org
X-WR-CALDESC:Events for Lake Conroe Amateur Radio Club
REFRESH-INTERVAL;VALUE=DURATION:PT1H
X-Robots-Tag:noindex
X-PUBLISHED-TTL:PT1H
BEGIN:VTIMEZONE
TZID:America/Chicago
BEGIN:DAYLIGHT
TZOFFSETFROM:-0600
TZOFFSETTO:-0500
TZNAME:CDT
DTSTART:20250309T080000
END:DAYLIGHT
BEGIN:STANDARD
TZOFFSETFROM:-0500
TZOFFSETTO:-0600
TZNAME:CST
DTSTART:20251102T070000
END:STANDARD
BEGIN:DAYLIGHT
TZOFFSETFROM:-0600
TZOFFSETTO:-0500
TZNAME:CDT
DTSTART:20260308T080000
END:DAYLIGHT
BEGIN:STANDARD
TZOFFSETFROM:-0500
TZOFFSETTO:-0600
TZNAME:CST
DTSTART:20261101T070000
END:STANDARD
BEGIN:DAYLIGHT
TZOFFSETFROM:-0600
TZOFFSETTO:-0500
TZNAME:CDT
DTSTART:20270314T080000
END:DAYLIGHT
BEGIN:STANDARD
TZOFFSETFROM:-0500
TZOFFSETTO:-0600
TZNAME:CST
DTSTART:20271107T070000
END:STANDARD
END:VTIMEZONE
BEGIN:VEVENT
DTSTART;TZID=America/Chicago:20260429T200000
DTEND;TZID=America/Chicago:20260429T210000
DTSTAMP:20260424T074821
CREATED:20260129T030408Z
LAST-MODIFIED:20260131T033722Z
UID:10000293-1777492800-1777496400@ac5lc.org
SUMMARY:Weekly NET
DESCRIPTION:Conroe\, TX LCARC VHF Repeater 145.400 (-600Khz) 100.0/100.0 Allstar# 51364 \n 
URL:https://ac5lc.org/?tribe_events=weekly-net&eventDate=2026-04-29
LOCATION:ham.live
CATEGORIES:Weekly NET
ATTACH;FMTTYPE=image/jpeg:https://ac5lc.org/wp-content/uploads/2026/01/WeeklyNets_Dipole.jpg
END:VEVENT
BEGIN:VEVENT
DTSTART;TZID=America/Chicago:20260502T080000
DTEND;TZID=America/Chicago:20260502T140000
DTSTAMP:20260424T074821
CREATED:20260416T235049Z
LAST-MODIFIED:20260416T235049Z
UID:10000658-1777708800-1777730400@ac5lc.org
SUMMARY:IOTA
DESCRIPTION:Island Activation on Lake Conroe
URL:https://ac5lc.org/?tribe_events=iota
LOCATION:TX
CATEGORIES:Activation
ATTACH;FMTTYPE=image/png:https://ac5lc.org/wp-content/uploads/2026/04/iota_logo.png
END:VEVENT
BEGIN:VEVENT
DTSTART;TZID=America/Chicago:20260506T200000
DTEND;TZID=America/Chicago:20260506T210000
DTSTAMP:20260424T074821
CREATED:20260129T030408Z
LAST-MODIFIED:20260131T033722Z
UID:10000294-1778097600-1778101200@ac5lc.org
SUMMARY:Weekly NET
DESCRIPTION:Conroe\, TX LCARC VHF Repeater 145.400 (-600Khz) 100.0/100.0 Allstar# 51364 \n 
URL:https://ac5lc.org/?tribe_events=weekly-net&eventDate=2026-05-06
LOCATION:ham.live
CATEGORIES:Weekly NET
ATTACH;FMTTYPE=image/jpeg:https://ac5lc.org/wp-content/uploads/2026/01/WeeklyNets_Dipole.jpg
END:VEVENT
BEGIN:VEVENT
DTSTART;TZID=America/Chicago:20260509T100000
DTEND;TZID=America/Chicago:20260509T140000
DTSTAMP:20260424T074821
CREATED:20260417T014639Z
LAST-MODIFIED:20260423T164233Z
UID:10000663-1778320800-1778335200@ac5lc.org
SUMMARY:MoCo First Annual Disaster Prep Expo
DESCRIPTION:The 1 Annual Montgomery County Disaster Preparedness Expo The Disaster Preparedness Expo gives families and community members a chance to learn how to prepare before emergencies happen. Attendees can meet first responders and emergency professionals\, ask questions\, and get practical tips for protecting their homes\, families\, pets\, and businesses. By participating\, families become more confident and help strengthen a more prepared and resilient community. \nEvent Date: Saturday May 9 th\nEvent Time: 10:00 am to 2:00 pm\nLocation: Lone Star Convention & Expo Center 9055 Airport Rd\, Conroe\, TX 77303
URL:https://ac5lc.org/?tribe_events=moco-first-annual-disaster-prep-expo
LOCATION:Lonestar Convention Center\, 9055 Airport Rd\, Conroe\, TX\, 77303\, United States
ATTACH;FMTTYPE=image/jpeg:https://ac5lc.org/wp-content/uploads/2026/04/MoCo-DHS-OEM-Logo.jpg
END:VEVENT
BEGIN:VEVENT
DTSTART;TZID=America/Chicago:20260513T200000
DTEND;TZID=America/Chicago:20260513T210000
DTSTAMP:20260424T074821
CREATED:20260129T030408Z
LAST-MODIFIED:20260131T033722Z
UID:10000295-1778702400-1778706000@ac5lc.org
SUMMARY:Weekly NET
DESCRIPTION:Conroe\, TX LCARC VHF Repeater 145.400 (-600Khz) 100.0/100.0 Allstar# 51364 \n 
URL:https://ac5lc.org/?tribe_events=weekly-net&eventDate=2026-05-13
LOCATION:ham.live
CATEGORIES:Weekly NET
ATTACH;FMTTYPE=image/jpeg:https://ac5lc.org/wp-content/uploads/2026/01/WeeklyNets_Dipole.jpg
END:VEVENT
BEGIN:VEVENT
DTSTART;TZID=America/Chicago:20260520T200000
DTEND;TZID=America/Chicago:20260520T210000
DTSTAMP:20260424T074821
CREATED:20260129T030408Z
LAST-MODIFIED:20260131T033722Z
UID:10000296-1779307200-1779310800@ac5lc.org
SUMMARY:Weekly NET
DESCRIPTION:Conroe\, TX LCARC VHF Repeater 145.400 (-600Khz) 100.0/100.0 Allstar# 51364 \n 
URL:https://ac5lc.org/?tribe_events=weekly-net&eventDate=2026-05-20
LOCATION:ham.live
CATEGORIES:Weekly NET
ATTACH;FMTTYPE=image/jpeg:https://ac5lc.org/wp-content/uploads/2026/01/WeeklyNets_Dipole.jpg
END:VEVENT
BEGIN:VEVENT
DTSTART;TZID=America/Chicago:20260527T200000
DTEND;TZID=America/Chicago:20260527T210000
DTSTAMP:20260424T074821
CREATED:20260129T030408Z
LAST-MODIFIED:20260131T033722Z
UID:10000297-1779912000-1779915600@ac5lc.org
SUMMARY:Weekly NET
DESCRIPTION:Conroe\, TX LCARC VHF Repeater 145.400 (-600Khz) 100.0/100.0 Allstar# 51364 \n 
URL:https://ac5lc.org/?tribe_events=weekly-net&eventDate=2026-05-27
LOCATION:ham.live
CATEGORIES:Weekly NET
ATTACH;FMTTYPE=image/jpeg:https://ac5lc.org/wp-content/uploads/2026/01/WeeklyNets_Dipole.jpg
END:VEVENT
BEGIN:VEVENT
DTSTART;TZID=America/Chicago:20260528T190000
DTEND;TZID=America/Chicago:20260528T193000
DTSTAMP:20260424T074821
CREATED:20260127T025100Z
LAST-MODIFIED:20260130T220658Z
UID:10000544-1779994800-1779996600@ac5lc.org
SUMMARY:Business Mtg
DESCRIPTION:
URL:https://ac5lc.org/?tribe_events=business-mtg-4&eventDate=2026-05-28
LOCATION:Woodlands Training Facility\, 16135 Interstate 45 S\, Conroe\, TX\, 77385\, United States
CATEGORIES:Business Mtg
ATTACH;FMTTYPE=image/jpeg:https://ac5lc.org/wp-content/uploads/2026/01/BusinessMtg.jpg
END:VEVENT
BEGIN:VEVENT
DTSTART;TZID=America/Chicago:20260528T193000
DTEND;TZID=America/Chicago:20260528T210000
DTSTAMP:20260424T074821
CREATED:20260129T025531Z
LAST-MODIFIED:20260130T221144Z
UID:10000603-1779996600-1780002000@ac5lc.org
SUMMARY:Training Seminar
DESCRIPTION:
URL:https://ac5lc.org/?tribe_events=training-seminar-4&eventDate=2026-05-28
LOCATION:Woodlands Training Facility\, 16135 Interstate 45 S\, Conroe\, TX\, 77385\, United States
CATEGORIES:Training Seminar
ATTACH;FMTTYPE=image/jpeg:https://ac5lc.org/wp-content/uploads/2026/01/TrainingSeminar.jpg
END:VEVENT
BEGIN:VEVENT
DTSTART;TZID=America/Chicago:20260603T200000
DTEND;TZID=America/Chicago:20260603T210000
DTSTAMP:20260424T074821
CREATED:20260129T030408Z
LAST-MODIFIED:20260131T033722Z
UID:10000298-1780516800-1780520400@ac5lc.org
SUMMARY:Weekly NET
DESCRIPTION:Conroe\, TX LCARC VHF Repeater 145.400 (-600Khz) 100.0/100.0 Allstar# 51364 \n 
URL:https://ac5lc.org/?tribe_events=weekly-net&eventDate=2026-06-03
LOCATION:ham.live
CATEGORIES:Weekly NET
ATTACH;FMTTYPE=image/jpeg:https://ac5lc.org/wp-content/uploads/2026/01/WeeklyNets_Dipole.jpg
END:VEVENT
BEGIN:VEVENT
DTSTART;TZID=America/Chicago:20260610T200000
DTEND;TZID=America/Chicago:20260610T210000
DTSTAMP:20260424T074821
CREATED:20260129T030408Z
LAST-MODIFIED:20260131T033722Z
UID:10000299-1781121600-1781125200@ac5lc.org
SUMMARY:Weekly NET
DESCRIPTION:Conroe\, TX LCARC VHF Repeater 145.400 (-600Khz) 100.0/100.0 Allstar# 51364 \n 
URL:https://ac5lc.org/?tribe_events=weekly-net&eventDate=2026-06-10
LOCATION:ham.live
CATEGORIES:Weekly NET
ATTACH;FMTTYPE=image/jpeg:https://ac5lc.org/wp-content/uploads/2026/01/WeeklyNets_Dipole.jpg
END:VEVENT
BEGIN:VEVENT
DTSTART;VALUE=DATE:20260612
DTEND;VALUE=DATE:20260614
DTSTAMP:20260424T074821
CREATED:20260416T235419Z
LAST-MODIFIED:20260416T235419Z
UID:10000659-1781222400-1781395199@ac5lc.org
SUMMARY:2026 DFW Ham Expo
DESCRIPTION:
URL:https://ac5lc.org/?tribe_events=2026-dfw-ham-expo
LOCATION:TX
CATEGORIES:Ham Fest
ATTACH;FMTTYPE=image/jpeg:https://ac5lc.org/wp-content/uploads/2026/04/DFW_HamExpo_nodate-Phone.jpg
END:VEVENT
BEGIN:VEVENT
DTSTART;TZID=America/Chicago:20260617T200000
DTEND;TZID=America/Chicago:20260617T210000
DTSTAMP:20260424T074821
CREATED:20260129T030408Z
LAST-MODIFIED:20260131T033722Z
UID:10000300-1781726400-1781730000@ac5lc.org
SUMMARY:Weekly NET
DESCRIPTION:Conroe\, TX LCARC VHF Repeater 145.400 (-600Khz) 100.0/100.0 Allstar# 51364 \n 
URL:https://ac5lc.org/?tribe_events=weekly-net&eventDate=2026-06-17
LOCATION:ham.live
CATEGORIES:Weekly NET
ATTACH;FMTTYPE=image/jpeg:https://ac5lc.org/wp-content/uploads/2026/01/WeeklyNets_Dipole.jpg
END:VEVENT
BEGIN:VEVENT
DTSTART;TZID=America/Chicago:20260624T200000
DTEND;TZID=America/Chicago:20260624T210000
DTSTAMP:20260424T074822
CREATED:20260129T030408Z
LAST-MODIFIED:20260131T033722Z
UID:10000301-1782331200-1782334800@ac5lc.org
SUMMARY:Weekly NET
DESCRIPTION:Conroe\, TX LCARC VHF Repeater 145.400 (-600Khz) 100.0/100.0 Allstar# 51364 \n 
URL:https://ac5lc.org/?tribe_events=weekly-net&eventDate=2026-06-24
LOCATION:ham.live
CATEGORIES:Weekly NET
ATTACH;FMTTYPE=image/jpeg:https://ac5lc.org/wp-content/uploads/2026/01/WeeklyNets_Dipole.jpg
END:VEVENT
BEGIN:VEVENT
DTSTART;TZID=America/Chicago:20260625T180000
DTEND;TZID=America/Chicago:20260625T190000
DTSTAMP:20260424T074822
CREATED:20260419T194020Z
LAST-MODIFIED:20260423T233529Z
UID:10000665-1782410400-1782414000@ac5lc.org
SUMMARY:Testing
DESCRIPTION:Sponsor: Lake Conroe Amateur Radio Club\nContact: Jacob Jackson\n(940) 247-0122\nEmail: kd5jhw@gmail.com\nVEC: ARRL/VEC \nPlease bring $15 in cash for the testing fee\, check is also accepted (make payable to Lake Conroe Amateur Radio Club).\nYour FRN number is required to please register for one. https://apps.fcc.gov/cores/userLogin.do
URL:https://ac5lc.org/?tribe_events=testing-4
LOCATION:Woodlands Training Facility\, 16135 Interstate 45 S\, Conroe\, TX\, 77385\, United States
CATEGORIES:Testing
ATTACH;FMTTYPE=image/jpeg:https://ac5lc.org/wp-content/uploads/2026/01/testing.jpg
END:VEVENT
BEGIN:VEVENT
DTSTART;TZID=America/Chicago:20260625T190000
DTEND;TZID=America/Chicago:20260625T193000
DTSTAMP:20260424T074822
CREATED:20260127T025100Z
LAST-MODIFIED:20260130T220658Z
UID:10000545-1782414000-1782415800@ac5lc.org
SUMMARY:Business Mtg
DESCRIPTION:
URL:https://ac5lc.org/?tribe_events=business-mtg-4&eventDate=2026-06-25
LOCATION:Woodlands Training Facility\, 16135 Interstate 45 S\, Conroe\, TX\, 77385\, United States
CATEGORIES:Business Mtg
ATTACH;FMTTYPE=image/jpeg:https://ac5lc.org/wp-content/uploads/2026/01/BusinessMtg.jpg
END:VEVENT
BEGIN:VEVENT
DTSTART;TZID=America/Chicago:20260625T193000
DTEND;TZID=America/Chicago:20260625T210000
DTSTAMP:20260424T074822
CREATED:20260129T025531Z
LAST-MODIFIED:20260130T221144Z
UID:10000604-1782415800-1782421200@ac5lc.org
SUMMARY:Training Seminar
DESCRIPTION:
URL:https://ac5lc.org/?tribe_events=training-seminar-4&eventDate=2026-06-25
LOCATION:Woodlands Training Facility\, 16135 Interstate 45 S\, Conroe\, TX\, 77385\, United States
CATEGORIES:Training Seminar
ATTACH;FMTTYPE=image/jpeg:https://ac5lc.org/wp-content/uploads/2026/01/TrainingSeminar.jpg
END:VEVENT
BEGIN:VEVENT
DTSTART;TZID=America/Chicago:20260701T200000
DTEND;TZID=America/Chicago:20260701T210000
DTSTAMP:20260424T074822
CREATED:20260129T030408Z
LAST-MODIFIED:20260131T033722Z
UID:10000302-1782936000-1782939600@ac5lc.org
SUMMARY:Weekly NET
DESCRIPTION:Conroe\, TX LCARC VHF Repeater 145.400 (-600Khz) 100.0/100.0 Allstar# 51364 \n 
URL:https://ac5lc.org/?tribe_events=weekly-net&eventDate=2026-07-01
LOCATION:ham.live
CATEGORIES:Weekly NET
ATTACH;FMTTYPE=image/jpeg:https://ac5lc.org/wp-content/uploads/2026/01/WeeklyNets_Dipole.jpg
END:VEVENT
BEGIN:VEVENT
DTSTART;TZID=America/Chicago:20260708T200000
DTEND;TZID=America/Chicago:20260708T210000
DTSTAMP:20260424T074822
CREATED:20260129T030408Z
LAST-MODIFIED:20260131T033722Z
UID:10000303-1783540800-1783544400@ac5lc.org
SUMMARY:Weekly NET
DESCRIPTION:Conroe\, TX LCARC VHF Repeater 145.400 (-600Khz) 100.0/100.0 Allstar# 51364 \n 
URL:https://ac5lc.org/?tribe_events=weekly-net&eventDate=2026-07-08
LOCATION:ham.live
CATEGORIES:Weekly NET
ATTACH;FMTTYPE=image/jpeg:https://ac5lc.org/wp-content/uploads/2026/01/WeeklyNets_Dipole.jpg
END:VEVENT
BEGIN:VEVENT
DTSTART;VALUE=DATE:20260711
DTEND;VALUE=DATE:20260712
DTSTAMP:20260424T074822
CREATED:20260416T235555Z
LAST-MODIFIED:20260416T235555Z
UID:10000660-1783728000-1783814399@ac5lc.org
SUMMARY:2026 Tidelands Hamfest
DESCRIPTION:
URL:https://ac5lc.org/?tribe_events=2026-tidelands-hamfest
LOCATION:TX
CATEGORIES:Ham Fest
ATTACH;FMTTYPE=image/gif:https://ac5lc.org/wp-content/uploads/2026/04/tidelands.gif
END:VEVENT
BEGIN:VEVENT
DTSTART;TZID=America/Chicago:20260715T200000
DTEND;TZID=America/Chicago:20260715T210000
DTSTAMP:20260424T074822
CREATED:20260129T030408Z
LAST-MODIFIED:20260131T033722Z
UID:10000304-1784145600-1784149200@ac5lc.org
SUMMARY:Weekly NET
DESCRIPTION:Conroe\, TX LCARC VHF Repeater 145.400 (-600Khz) 100.0/100.0 Allstar# 51364 \n 
URL:https://ac5lc.org/?tribe_events=weekly-net&eventDate=2026-07-15
LOCATION:ham.live
CATEGORIES:Weekly NET
ATTACH;FMTTYPE=image/jpeg:https://ac5lc.org/wp-content/uploads/2026/01/WeeklyNets_Dipole.jpg
END:VEVENT
BEGIN:VEVENT
DTSTART;TZID=America/Chicago:20260722T200000
DTEND;TZID=America/Chicago:20260722T210000
DTSTAMP:20260424T074822
CREATED:20260129T030408Z
LAST-MODIFIED:20260131T033722Z
UID:10000305-1784750400-1784754000@ac5lc.org
SUMMARY:Weekly NET
DESCRIPTION:Conroe\, TX LCARC VHF Repeater 145.400 (-600Khz) 100.0/100.0 Allstar# 51364 \n 
URL:https://ac5lc.org/?tribe_events=weekly-net&eventDate=2026-07-22
LOCATION:ham.live
CATEGORIES:Weekly NET
ATTACH;FMTTYPE=image/jpeg:https://ac5lc.org/wp-content/uploads/2026/01/WeeklyNets_Dipole.jpg
END:VEVENT
BEGIN:VEVENT
DTSTART;TZID=America/Chicago:20260723T190000
DTEND;TZID=America/Chicago:20260723T193000
DTSTAMP:20260424T074822
CREATED:20260127T025100Z
LAST-MODIFIED:20260130T220658Z
UID:10000546-1784833200-1784835000@ac5lc.org
SUMMARY:Business Mtg
DESCRIPTION:
URL:https://ac5lc.org/?tribe_events=business-mtg-4&eventDate=2026-07-23
LOCATION:Woodlands Training Facility\, 16135 Interstate 45 S\, Conroe\, TX\, 77385\, United States
CATEGORIES:Business Mtg
ATTACH;FMTTYPE=image/jpeg:https://ac5lc.org/wp-content/uploads/2026/01/BusinessMtg.jpg
END:VEVENT
BEGIN:VEVENT
DTSTART;TZID=America/Chicago:20260723T193000
DTEND;TZID=America/Chicago:20260723T210000
DTSTAMP:20260424T074822
CREATED:20260129T025531Z
LAST-MODIFIED:20260130T221144Z
UID:10000605-1784835000-1784840400@ac5lc.org
SUMMARY:Training Seminar
DESCRIPTION:
URL:https://ac5lc.org/?tribe_events=training-seminar-4&eventDate=2026-07-23
LOCATION:Woodlands Training Facility\, 16135 Interstate 45 S\, Conroe\, TX\, 77385\, United States
CATEGORIES:Training Seminar
ATTACH;FMTTYPE=image/jpeg:https://ac5lc.org/wp-content/uploads/2026/01/TrainingSeminar.jpg
END:VEVENT
BEGIN:VEVENT
DTSTART;TZID=America/Chicago:20260729T200000
DTEND;TZID=America/Chicago:20260729T210000
DTSTAMP:20260424T074822
CREATED:20260129T030408Z
LAST-MODIFIED:20260131T033722Z
UID:10000306-1785355200-1785358800@ac5lc.org
SUMMARY:Weekly NET
DESCRIPTION:Conroe\, TX LCARC VHF Repeater 145.400 (-600Khz) 100.0/100.0 Allstar# 51364 \n 
URL:https://ac5lc.org/?tribe_events=weekly-net&eventDate=2026-07-29
LOCATION:ham.live
CATEGORIES:Weekly NET
ATTACH;FMTTYPE=image/jpeg:https://ac5lc.org/wp-content/uploads/2026/01/WeeklyNets_Dipole.jpg
END:VEVENT
BEGIN:VEVENT
DTSTART;TZID=America/Chicago:20260805T200000
DTEND;TZID=America/Chicago:20260805T210000
DTSTAMP:20260424T074822
CREATED:20260129T030408Z
LAST-MODIFIED:20260131T033722Z
UID:10000307-1785960000-1785963600@ac5lc.org
SUMMARY:Weekly NET
DESCRIPTION:Conroe\, TX LCARC VHF Repeater 145.400 (-600Khz) 100.0/100.0 Allstar# 51364 \n 
URL:https://ac5lc.org/?tribe_events=weekly-net&eventDate=2026-08-05
LOCATION:ham.live
CATEGORIES:Weekly NET
ATTACH;FMTTYPE=image/jpeg:https://ac5lc.org/wp-content/uploads/2026/01/WeeklyNets_Dipole.jpg
END:VEVENT
BEGIN:VEVENT
DTSTART;VALUE=DATE:20260807
DTEND;VALUE=DATE:20260809
DTSTAMP:20260424T074822
CREATED:20260416T235942Z
LAST-MODIFIED:20260416T235942Z
UID:10000661-1786060800-1786233599@ac5lc.org
SUMMARY:2026 Shreveport-Bossier Hamfest
DESCRIPTION:
URL:https://ac5lc.org/?tribe_events=2026-shreveport-bossier-hamfest
LOCATION:TX
CATEGORIES:Ham Fest
ATTACH;FMTTYPE=image/jpeg:https://ac5lc.org/wp-content/uploads/2026/04/Shreveport-Amateur-Radio-Assoc.jpg
END:VEVENT
BEGIN:VEVENT
DTSTART;TZID=America/Chicago:20260812T200000
DTEND;TZID=America/Chicago:20260812T210000
DTSTAMP:20260424T074822
CREATED:20260129T030408Z
LAST-MODIFIED:20260131T033722Z
UID:10000308-1786564800-1786568400@ac5lc.org
SUMMARY:Weekly NET
DESCRIPTION:Conroe\, TX LCARC VHF Repeater 145.400 (-600Khz) 100.0/100.0 Allstar# 51364 \n 
URL:https://ac5lc.org/?tribe_events=weekly-net&eventDate=2026-08-12
LOCATION:ham.live
CATEGORIES:Weekly NET
ATTACH;FMTTYPE=image/jpeg:https://ac5lc.org/wp-content/uploads/2026/01/WeeklyNets_Dipole.jpg
END:VEVENT
BEGIN:VEVENT
DTSTART;TZID=America/Chicago:20260819T200000
DTEND;TZID=America/Chicago:20260819T210000
DTSTAMP:20260424T074822
CREATED:20260129T030408Z
LAST-MODIFIED:20260131T033722Z
UID:10000309-1787169600-1787173200@ac5lc.org
SUMMARY:Weekly NET
DESCRIPTION:Conroe\, TX LCARC VHF Repeater 145.400 (-600Khz) 100.0/100.0 Allstar# 51364 \n 
URL:https://ac5lc.org/?tribe_events=weekly-net&eventDate=2026-08-19
LOCATION:ham.live
CATEGORIES:Weekly NET
ATTACH;FMTTYPE=image/jpeg:https://ac5lc.org/wp-content/uploads/2026/01/WeeklyNets_Dipole.jpg
END:VEVENT
BEGIN:VEVENT
DTSTART;TZID=America/Chicago:20260826T200000
DTEND;TZID=America/Chicago:20260826T210000
DTSTAMP:20260424T074822
CREATED:20260129T030408Z
LAST-MODIFIED:20260131T033722Z
UID:10000310-1787774400-1787778000@ac5lc.org
SUMMARY:Weekly NET
DESCRIPTION:Conroe\, TX LCARC VHF Repeater 145.400 (-600Khz) 100.0/100.0 Allstar# 51364 \n 
URL:https://ac5lc.org/?tribe_events=weekly-net&eventDate=2026-08-26
LOCATION:ham.live
CATEGORIES:Weekly NET
ATTACH;FMTTYPE=image/jpeg:https://ac5lc.org/wp-content/uploads/2026/01/WeeklyNets_Dipole.jpg
END:VEVENT
END:VCALENDAR